BEGIN:VCALENDAR
VERSION:2.0
PRODID:-//eventon.com NONSGML v1.0//EN
CALSCALE:GREGORIAN
METHOD:PUBLISH
BEGIN:VEVENT
UID:69e5e685351af
DTSTAMP:20260420T084037Z
DTSTART:20260315T010000Z
DTEND:20260315T054500Z
LOCATION:Cervante&#039;s Masterpiece Ballroom 2637 Welton St\, 
SUMMARY:Big Something at Cervante's Masterpiece Ballroom
DESCRIPTION:Big Something at Cervante&#039;s Masterpiece Ballroom\nhttps://
 blackspymarketing.com/event/big-something-at-cervantes-masterpiece-ballroom
 /
URL:https://blackspymarketing.com/event/big-something-at-cervantes-masterpiece-ballroom/
END:VEVENT
END:VCALENDAR