BEGIN:VCALENDAR
VERSION:2.0
PRODID:-//eventon.com NONSGML v1.0//EN
CALSCALE:GREGORIAN
METHOD:PUBLISH
BEGIN:VEVENT
UID:69ed6f23caf89
DTSTAMP:20260426T014923Z
DTSTART:20250829T190000Z
DTEND:20250829T225900Z
LOCATION:
SUMMARY:Kolohe Kai at Gothic Theatre
DESCRIPTION:Let&#8217;s take it back to the islands. Blackspy invites you t
 o Kolohe Kai Official Page at Gothic Theatre on August 29th. What Aloha
  Means. Album Release Summer Tour. Aloha attire encouraged.    bit.ly/k
 aigothic\nhttps://blackspymarketing.com/event/kolohe-kai-at-gothic-theatre/
URL:https://blackspymarketing.com/event/kolohe-kai-at-gothic-theatre/
END:VEVENT
END:VCALENDAR