BEGIN:VCALENDAR
VERSION:2.0
PRODID:-//eventon.com NONSGML v1.0//EN
CALSCALE:GREGORIAN
METHOD:PUBLISH
BEGIN:VEVENT
UID:69e913d0b2a6c
DTSTAMP:20260422T183040Z
DTSTART:20250727T113000Z
DTEND:20250727T214500Z
LOCATION:National Wester Center 4701 N Marion St #401
SUMMARY:UNHINGED: Knocked Loose\,  Lamb of God at National Western Center
DESCRIPTION:Blackspy invites you to a night of metal.Â Â UNHINGED ft.Â Knoc
 ked Loose\, Â Lamb of God\, Â The Dillinger Escape Plan\, Â In This MomentÂ
  &amp; more atÂ National Western CenterÂ on July 26-27\,  2025. Tickets on 
 sale. bit.ly/unhingedtickets\nhttps://blackspymarketing.com/event/unhinged-
 knocked-loose-lamb-of-god-at-national-western-center-2/
URL:https://blackspymarketing.com/event/unhinged-knocked-loose-lamb-of-god-at-national-western-center-2/
END:VEVENT
END:VCALENDAR