BEGIN:VCALENDAR
VERSION:2.0
PRODID:-//eventon.com NONSGML v1.0//EN
CALSCALE:GREGORIAN
METHOD:PUBLISH
BEGIN:VEVENT
UID:69e51f6af2ce7
DTSTAMP:20260419T183106Z
DTSTART:20251013T180000Z
DTEND:20251013T225900Z
LOCATION:Red Rocks Amphitheatre 18300 W Alameda Pkwy
SUMMARY:Carl Cox LIVE with Vintage Culture b2b ANNA and Bordas Bros at Red Rocks
DESCRIPTION:Live Nation Colorado &amp; Factory 93 Present: Carl Cox LI
 VE with Vintage Culture b2b ANNA\,  Bontan and The Bordas Brothers at
  RED ROCKS on October 13\,  2025.  bit.ly/carlcoxtickets\nhttps://blackspy
 marketing.com/event/carl-cox-live-with-vintage-culture-b2b-anna-and-bordas-
 bros-at-red-rocks/
URL:https://blackspymarketing.com/event/carl-cox-live-with-vintage-culture-b2b-anna-and-bordas-bros-at-red-rocks/
END:VEVENT
END:VCALENDAR