BEGIN:VCALENDAR
VERSION:2.0
PRODID:-//eventon.com NONSGML v1.0//EN
CALSCALE:GREGORIAN
METHOD:PUBLISH
BEGIN:VEVENT
UID:69e84aa367cc6
DTSTAMP:20260422T041219Z
DTSTART:20250821T060000Z
DTEND:20250821T105900Z
LOCATION:Gerald R. Ford Amphitheater 530 S Frontage Rd E\, 
SUMMARY:Joe Russo's Almost Dead at G.R. Ford Amphitheater
DESCRIPTION:Joe Russo&#8217;s Almost Dead returns to the Colorado mountain
 s with stops at Gerald R. Ford Amphitheater on August 21 and Dillon Amph
 itheater on August 22-23!  bit.ly/jradcolorado Joe Russo&#8217;s Almost De
 ad is Marco Benevento\,  Dave Dreiwitz\,  Tom Hamilton\,  Scott Metzger and
  Joe Russo. \nhttps://blackspymarketing.com/event/joe-russos-almost-dead-a
 t-g-r-ford-amphitheater/
URL:https://blackspymarketing.com/event/joe-russos-almost-dead-at-g-r-ford-amphitheater/
END:VEVENT
END:VCALENDAR