BEGIN:VCALENDAR
VERSION:2.0
PRODID:-//eventon.com NONSGML v1.0//EN
CALSCALE:GREGORIAN
METHOD:PUBLISH
BEGIN:VEVENT
UID:69e7d061e76bf
DTSTAMP:20260421T193041Z
DTSTART:20250520T070000Z
DTEND:20250520T105900Z
LOCATION:Ogden Theatre 935 E. Colfax Avenue
SUMMARY:Matisyahu with Electric Kiff at Ogen Theatre
DESCRIPTION:The King Without A Crown Matisyahu hits The Ogden Theatre i
 n Denver with Electric Kif on May 20th. Lock in your tix today.  bit.ly/
 matisyahudenver\nhttps://blackspymarketing.com/event/matisyahu-with-electri
 c-kiff-at-ogen-theatre/
URL:https://blackspymarketing.com/event/matisyahu-with-electric-kiff-at-ogen-theatre/
END:VEVENT
END:VCALENDAR