BEGIN:VCALENDAR
VERSION:2.0
PRODID:-//eventon.com NONSGML v1.0//EN
CALSCALE:GREGORIAN
METHOD:PUBLISH
BEGIN:VEVENT
UID:69e732827bb97
DTSTAMP:20260421T081706Z
DTSTART:20250607T180000Z
DTEND:20250607T225900Z
LOCATION:Amphitheater at Las Colonias Park 925 Struthers Grand Junction\,  CO\,  United States\,  Colorado 81501
SUMMARY:Ryan Bingham and The Texas Gentleman at Amphitheater at Las Colonias Park
DESCRIPTION:Singer\,  songwriter\,  and guitarist Ryan Bingham and The T
 exas Gentlemen in Colorado this Summer. June 3 &#8211; Red Rocks Park and
  Amphitheatre June 4 &#8211; Ford Amphitheater in Co Springs June 6 &#821
 1; Blue FCU Arena in Loveland June 7 &#8211; Amphitheater at Las Coloni
 as Park in Grand Junction Tickets on sale Fri 3/7 at 10a MT!  bit.ly/ryan
 binghamcolorado\nhttps://blackspymarketing.com/event/ryan-bingham-and-the-t
 exas-gentleman-at-ford-amphitheater-2/
URL:https://blackspymarketing.com/event/ryan-bingham-and-the-texas-gentleman-at-ford-amphitheater-2/
END:VEVENT
END:VCALENDAR