BEGIN:VCALENDAR
VERSION:2.0
PRODID:-//eventon.com NONSGML v1.0//EN
CALSCALE:GREGORIAN
METHOD:PUBLISH
BEGIN:VEVENT
UID:69e7e41376ba1
DTSTAMP:20260421T205443Z
DTSTART:20250524T180000Z
DTEND:20250524T225900Z
LOCATION:Paramount Theatre 1621 Glenarm Pl
SUMMARY:Pink Floyd Laser Spectacular at Paramount
DESCRIPTION:Blackspy invites you to Pink Floyd Laser Spectacular Presents: 
 SHINE ON. A live musical and visual tribute to Pink Floyd at Paramount Den
 ver on Saturday\,  May 24th. Step into a world where music meets visual ar
 tistry\,  and the iconic sounds of Pink Floyd come alive in a breathtaking 
 display of light and[..]\nhttps://blackspymarketing.com/event/pink-floyd-la
 ser-spectacular-at-paramount/
URL:https://blackspymarketing.com/event/pink-floyd-laser-spectacular-at-paramount/
END:VEVENT
END:VCALENDAR