BEGIN:VCALENDAR
VERSION:2.0
PRODID:-//eventon.com NONSGML v1.0//EN
CALSCALE:GREGORIAN
METHOD:PUBLISH
BEGIN:VEVENT
UID:69ed8e0203516
DTSTAMP:20260426T040106Z
DTSTART:20250809T180000Z
DTEND:20250809T225900Z
LOCATION:Gerald R. Ford Amphitheater 530 S Frontage Rd E\, 
SUMMARY:The String Cheese Incident at Gerald R Ford Amphitheater
DESCRIPTION:@SCI_Official at @GRFA_Vail on Friday\,  Aug. 8th and Saturd
 ay\,  Aug. 9th! Tix on sale at bit.ly/scivail\nhttps://blackspymarketing.c
 om/event/the-string-cheese-incident-at-gerald-r-ford-amphitheater-2/
URL:https://blackspymarketing.com/event/the-string-cheese-incident-at-gerald-r-ford-amphitheater-2/
END:VEVENT
END:VCALENDAR