BEGIN:VCALENDAR
VERSION:2.0
PRODID:-//eventon.com NONSGML v1.0//EN
CALSCALE:GREGORIAN
METHOD:PUBLISH
BEGIN:VEVENT
UID:69e5e4af8d4ed
DTSTAMP:20260420T083247Z
DTSTART:20250428T010000Z
DTEND:20250428T055900Z
LOCATION:Red Rocks Amphitheatre 18300 W Alameda Pkwy
SUMMARY:The Movement & Pepper & Tribal Seeds
DESCRIPTION:The Movement &amp; Pepper &amp; Tribal Seeds with KBong 
 x Johnny Cosmic\,  Landon McNamara at Red Rocks Park and Amphitheatre 
 on April 27\,  2025 TICKETS\nhttps://blackspymarketing.com/event/the-moveme
 nt-pepper-tribal-seeds/
URL:https://blackspymarketing.com/event/the-movement-pepper-tribal-seeds/
END:VEVENT
END:VCALENDAR