BEGIN:VCALENDAR
VERSION:2.0
PRODID:-//eventon.com NONSGML v1.0//EN
CALSCALE:GREGORIAN
METHOD:PUBLISH
BEGIN:VEVENT
UID:69eca8ff376cf
DTSTAMP:20260425T114359Z
DTSTART:20250511T010000Z
DTEND:20250511T055900Z
LOCATION:Red Rocks Amphitheatre 18300 W Alameda Pkwy
SUMMARY:KALEO with Marcus King Band at Red Rocks
DESCRIPTION:KALEO with very special guest Marcus King Band at Red Rocks
  Park and Amphitheatre on May 10\,  2025.  TICKETS\nhttps://blackspymarke
 ting.com/event/kaleo-with-marcus-king-band-at-red-rocks/
URL:https://blackspymarketing.com/event/kaleo-with-marcus-king-band-at-red-rocks/
END:VEVENT
END:VCALENDAR