BEGIN:VCALENDAR
VERSION:2.0
PRODID:-//eventon.com NONSGML v1.0//EN
CALSCALE:GREGORIAN
METHOD:PUBLISH
BEGIN:VEVENT
UID:69e751945029a
DTSTAMP:20260421T102940Z
DTSTART:20250515T010000Z
DTEND:20250515T055900Z
LOCATION:Mission Ballroom 4242 Wynkoop St
SUMMARY:Beach House at Mission Ballroom
DESCRIPTION:Indie rock band Beach House hits Mission Ballroom in Denver
  on May 14\,  2025.  TICKETS\nhttps://blackspymarketing.com/event/beach-ho
 use-at-mission-ballroom/
URL:https://blackspymarketing.com/event/beach-house-at-mission-ballroom/
END:VEVENT
END:VCALENDAR