BEGIN:VCALENDAR
VERSION:2.0
PRODID:-//eventon.com NONSGML v1.0//EN
CALSCALE:GREGORIAN
METHOD:PUBLISH
BEGIN:VEVENT
UID:69e89b0d8288f
DTSTAMP:20260422T095525Z
DTSTART:20250214T230000Z
DTEND:20250215T065900Z
LOCATION:Ford Park
SUMMARY:John Summit Presents Experts Only at Ford Park
DESCRIPTION:John Summit Presents Experts Only at Ford Park in Vail on Febr
 uary 15\,  2025. Register for presale tix at expertsonly.lnk.to/vail \nht
 tps://blackspymarketing.com/event/john-summit-presents-experts-only-at-ford
 -park/
URL:https://blackspymarketing.com/event/john-summit-presents-experts-only-at-ford-park/
END:VEVENT
END:VCALENDAR