BEGIN:VCALENDAR
VERSION:2.0
PRODID:-//eventon.com NONSGML v1.0//EN
CALSCALE:GREGORIAN
METHOD:PUBLISH
BEGIN:VEVENT
UID:69e505f920328
DTSTAMP:20260419T164233Z
DTSTART:20241109T030000Z
DTEND:20241109T065900Z
LOCATION:Gothic Theatre 3263 S Broadway
SUMMARY:The Greyboy Allstars at Gothic Theatre
DESCRIPTION:Blackspy invites you to an evening with The Greyboy Allstars 
 feat. Karl Denson at Gothic Theatre on November 8th. Tix on sale!  bit.
 ly/greyboygothic\nhttps://blackspymarketing.com/event/the-greyboy-allstars-
 at-gothic-theatre/
URL:https://blackspymarketing.com/event/the-greyboy-allstars-at-gothic-theatre/
END:VEVENT
END:VCALENDAR