BEGIN:VCALENDAR
VERSION:2.0
PRODID:-//eventon.com NONSGML v1.0//EN
CALSCALE:GREGORIAN
METHOD:PUBLISH
BEGIN:VEVENT
UID:69e78a8d66675
DTSTAMP:20260421T143245Z
DTSTART:20240728T010000Z
DTEND:20240728T055900Z
LOCATION:Fiddlers Green Amphitheatre 6350 Greenwood Plaza Blvd\, 
SUMMARY:Stick Figure & Sublime & Ziggy Marley with SOJA\,  Tribal Seeds\,  & The Hip Abduction at Fiddler's
DESCRIPTION:TICKETS Stick Figure &amp; Sublime (with the original band m
 embers Eric Wilson + Bud Gaugh ft. Jakob Nowell) &amp; Ziggy Marley with
  SOJA\,  Tribal Seeds\,  &amp; The Hip Abduction at Fiddler&#8217;s Gr
 een Amphitheatre on Saturday\,  July 27\,  2024!\nhttps://blackspymarketin
 g.com/event/stick-figure-sublime-ziggy-marley-with-soja-tribal-seeds-the-hi
 p-abduction-at-fiddlers/
URL:https://blackspymarketing.com/event/stick-figure-sublime-ziggy-marley-with-soja-tribal-seeds-the-hip-abduction-at-fiddlers/
END:VEVENT
END:VCALENDAR