BEGIN:VCALENDAR
VERSION:2.0
PRODID:-//eventon.com NONSGML v1.0//EN
CALSCALE:GREGORIAN
METHOD:PUBLISH
BEGIN:VEVENT
UID:69e7028dd6475
DTSTAMP:20260421T045229Z
DTSTART:20240428T023000Z
DTEND:20240428T055900Z
LOCATION:Meow Wolf 1338 1st St\,  Denver
SUMMARY:LTJ Bukem at Meow Wolf Denver
DESCRIPTION:TICKETS Drum and bass legendÂ LTJ Bukem DJÂ withÂ BlossomnÂ atÂ
  Meow WolfÂ Denver on April 27th andÂ Ophelia&#8217;sÂ on May 4th.\nhttps:/
 /blackspymarketing.com/event/meow-wolf-adulti-verse-at-convergence-station-
 2/
URL:https://blackspymarketing.com/event/meow-wolf-adulti-verse-at-convergence-station-2/
END:VEVENT
END:VCALENDAR