BEGIN:VCALENDAR
VERSION:2.0
PRODID:-//eventon.com NONSGML v1.0//EN
CALSCALE:GREGORIAN
METHOD:PUBLISH
BEGIN:VEVENT
UID:69e6d7e13c98f
DTSTAMP:20260421T015025Z
DTSTART:20240811T010000Z
DTEND:20240811T055900Z
LOCATION:Red Rocks Amphitheatre 18300 W Alameda Pkwy
SUMMARY:Slightly Stoopid with Common Kings at Red Rocks
DESCRIPTION:TICKETS Blackspy invites you to a three-night run with Slightl
 y Stoopid in Colorado! August 8th at Dillon Amphitheater\,  August 9th at
  Gerald R. Ford Amphitheater and August 10th at Red Rocks Park and Amphi
 theatre with special guests Common Kings and Fortunate Youth.\nhttps://
 blackspymarketing.com/event/slightly-stoopid-with-common-kings-at-red-rocks
 /
URL:https://blackspymarketing.com/event/slightly-stoopid-with-common-kings-at-red-rocks/
END:VEVENT
END:VCALENDAR