BEGIN:VCALENDAR
VERSION:2.0
PRODID:-//eventon.com NONSGML v1.0//EN
CALSCALE:GREGORIAN
METHOD:PUBLISH
BEGIN:VEVENT
UID:69e8ff5e064e6
DTSTAMP:20260422T170326Z
DTSTART:20240629T010000Z
DTEND:20240629T055900Z
LOCATION:Red Rocks Amphitheatre 18300 W Alameda Pkwy
SUMMARY:Damian Marley and Stephen Marley w/ Colorado Symphony + Burning Spear at Red Rocks
DESCRIPTION:TICKETS  Damian Marley and Stephen Marley w/ Colorado Symp
 hony and special guests burningspearmusic at Red Rocks Park and Amphith
 eatre on June 28\,  2024.\nhttps://blackspymarketing.com/event/damian-marl
 ey-and-stephen-marley-w-colorado-symphony-burning-spear-at-red-rocks/
URL:https://blackspymarketing.com/event/damian-marley-and-stephen-marley-w-colorado-symphony-burning-spear-at-red-rocks/
END:VEVENT
END:VCALENDAR