BEGIN:VCALENDAR
VERSION:2.0
PRODID:-//eventon.com NONSGML v1.0//EN
CALSCALE:GREGORIAN
METHOD:PUBLISH
BEGIN:VEVENT
UID:69ed0252d0123
DTSTAMP:20260425T180506Z
DTSTART:20240319T000000Z
DTEND:20240319T055900Z
LOCATION:Fillmore Auditorium 1510 N Clarkson St
SUMMARY:The Kooks at Fillmore Auditorium at Fillmore
DESCRIPTION:TICKETS Blackspy invites you to English pop-rock band The Kook
 s on their Inside In / Inside Out Tour at Fillmore Auditorium in Denver on
  March 18th. Tickets on sale. + special guests&nbsp;The Vaccines&nbsp;and&n
 bsp;Daisy the Great.\nhttps://blackspymarketing.com/event/the-kooks-at-fill
 more-auditorium-at-fillmore/
URL:https://blackspymarketing.com/event/the-kooks-at-fillmore-auditorium-at-fillmore/
END:VEVENT
END:VCALENDAR