BEGIN:VCALENDAR
VERSION:2.0
PRODID:-//eventon.com NONSGML v1.0//EN
CALSCALE:GREGORIAN
METHOD:PUBLISH
BEGIN:VEVENT
UID:69e4cc5249382
DTSTAMP:20260419T123634Z
DTSTART:20240316T020000Z
DTEND:20240316T055900Z
LOCATION:Cervante&#039;s Masterpiece Ballroom 2637 Welton St\, 
SUMMARY:Dumpstaphunk & Dragon Smoke (Ballroom) + Funk You w/ Taylor Scott Band Ft. Eric Benny Bloom\,  Where There's Smoke (Other Side) at Cervantes
DESCRIPTION:TICKETS\nhttps://blackspymarketing.com/event/dumpstaphunk-drago
 n-smoke-ballroom-funk-you-w-taylor-scott-band-ft-eric-benny-bloom-where-the
 res-smoke-other-side-at-cervantes/
URL:https://blackspymarketing.com/event/dumpstaphunk-dragon-smoke-ballroom-funk-you-w-taylor-scott-band-ft-eric-benny-bloom-where-theres-smoke-other-side-at-cervantes/
END:VEVENT
END:VCALENDAR