BEGIN:VCALENDAR
VERSION:2.0
PRODID:-//eventon.com NONSGML v1.0//EN
CALSCALE:GREGORIAN
METHOD:PUBLISH
BEGIN:VEVENT
UID:69e5e535a7acc
DTSTAMP:20260420T083501Z
DTSTART:20240316T010000Z
DTEND:20240316T041500Z
LOCATION:Summit Music Hall 1902 Blake St
SUMMARY:Eyedress at Summit Music Hall
DESCRIPTION:TICKETS Filipino singer-songwriter and rapper Eyedress hits 
 Summit Denver on March 15\nhttps://blackspymarketing.com/event/eyedress-at
 -summit-music-hall/
URL:https://blackspymarketing.com/event/eyedress-at-summit-music-hall/
END:VEVENT
END:VCALENDAR