BEGIN:VCALENDAR
VERSION:2.0
PRODID:-//eventon.com NONSGML v1.0//EN
CALSCALE:GREGORIAN
METHOD:PUBLISH
BEGIN:VEVENT
UID:69e5e6ddbc123
DTSTAMP:20260420T084205Z
DTSTART:20240128T050000Z
DTEND:20240128T065000Z
LOCATION:Ophelia&#039;s Electric Soapbox 1215 20th St\, 
SUMMARY:Toubab Krewe at Ophelia's
DESCRIPTION:TICKETS\nhttps://blackspymarketing.com/event/toubab-krewe-at-op
 helias-on-january-27/
URL:https://blackspymarketing.com/event/toubab-krewe-at-ophelias-on-january-27/
END:VEVENT
END:VCALENDAR